BEGIN:VCALENDAR
PRODID:-//IONAS//RIS//DE
VERSION:2.0
CALSCALE:GREGORIAN
BEGIN:VEVENT
DTSTAMP:20260420T103619Z
DTSTART:20261027T190000
DTEND:20261027T000000
SUMMARY:17. Sitzung des Rates der Samtgemeinde Emlichheim
LOCATION:Sitzungssaal des Hauses ''Ringerbrüggen''\, \, 49824 Emlichheim
DESCRIPTION:
UID:7r_r7n3xiLJ1Of5d
END:VEVENT
END:VCALENDAR
